BEGIN:VCALENDAR
VERSION:2.0
PRODID:-//Avenir Commun Durable - ECPv6.6.4.2//NONSGML v1.0//EN
CALSCALE:GREGORIAN
METHOD:PUBLISH
X-WR-CALNAME:Avenir Commun Durable
X-ORIGINAL-URL:https://avenircommundurable.fr
X-WR-CALDESC:évènements pour Avenir Commun Durable
REFRESH-INTERVAL;VALUE=DURATION:PT1H
X-Robots-Tag:noindex
X-PUBLISHED-TTL:PT1H
BEGIN:VTIMEZONE
TZID:Europe/Paris
BEGIN:DAYLIGHT
TZOFFSETFROM:+0100
TZOFFSETTO:+0200
TZNAME:CEST
DTSTART:20240331T010000
END:DAYLIGHT
BEGIN:STANDARD
TZOFFSETFROM:+0200
TZOFFSETTO:+0100
TZNAME:CET
DTSTART:20241027T010000
END:STANDARD
END:VTIMEZONE
BEGIN:VEVENT
DTSTART;TZID=Europe/Paris:20240110T100000
DTEND;TZID=Europe/Paris:20240110T120000
DTSTAMP:20260423T163123
CREATED:20231102T151549Z
LAST-MODIFIED:20231102T151549Z
UID:10000058-1704880800-1704888000@avenircommundurable.fr
SUMMARY:Cours : « Introduction : la part non électrique de l’énergie et la place de la biomasse dans la transition énergétique »
DESCRIPTION:Au Collège de France\, Le 19 mai 2026\, à 10h00\, dans l’amphithéâtre Maurice Halbwachs\, Face à un diagnostic écologique alarmiste\, il est urgent de faire évoluer nos modes de fonctionnement et de production vers une croissance mutuelle et harmonieuse de l’économie et des écosystèmes naturels. Nous montrerons comment des solutions inspirées\, voire fondées sur la nature\, pour conserver et restaurer des écosystèmes menacés par les activités humaines\, peuvent être source de solutions nouvelles pour une chimie respectueuse de la nature. En effet\, les capacités remarquables d’adaptation de certaines espèces végétales au stress auquel on les soumet génèrent des biomasses aux structures minérales uniques et inhabituelles. Il est possible de transformer les minéraux des espèces végétales en catalyseurs métalliques biosourcés pour la chimie inorganique et organique. Cette approche originale constitue le premier exemple de catalyse chimique métallique d’origine végétale : l’écocatalyse. L’écocatalyse a créé un changement de paradigme : les biomasses gorgées de métaux de transition pour restaurer les sols\, dépolluer les systèmes aquatiques et protéger les zones humides ne sont pas des déchets\, mais des systèmes naturels de restauration des écosystèmes qui possèdent une haute valeur ajoutée pour préparer des molécules utiles à notre santé\, notre bien-être et pour la chimie fine. Il devient ainsi possible de soutenir les solutions écologiques\, en transformant les biomasses végétales générées en des matières premières incontournables de la chimie durable\, les écocatalyseurs. L’utilisation de ces écocatalyseurs en chimie organique est réalisée avec un engagement environnemental inégalé\, qui dépasse les principes de la chimie verte.
URL:https://avenircommundurable.fr/evenement/cours-introduction-la-part-non-electrique-de-lenergie-et-la-place-de-la-biomasse-dans-la-transition-energetique/
CATEGORIES:cours
ATTACH;FMTTYPE=image/jpeg:https://avenircommundurable.fr/wp-content/uploads/2023/11/4309028760_d3c7f4299e_k.jpg
END:VEVENT
BEGIN:VEVENT
DTSTART;TZID=Europe/Paris:20240117T100000
DTEND;TZID=Europe/Paris:20240117T120000
DTSTAMP:20260423T163123
CREATED:20231102T151825Z
LAST-MODIFIED:20240111T095319Z
UID:10000059-1705485600-1705492800@avenircommundurable.fr
SUMMARY:Cours : « Biomasse et bioénergies : aujourd’hui et demain »
DESCRIPTION:Au Collège de France\, Le 19 mai 2026\, à 10h00\, dans l’amphithéâtre Maurice Halbwachs\, Face à un diagnostic écologique alarmiste\, il est urgent de faire évoluer nos modes de fonctionnement et de production vers une croissance mutuelle et harmonieuse de l’économie et des écosystèmes naturels. Nous montrerons comment des solutions inspirées\, voire fondées sur la nature\, pour conserver et restaurer des écosystèmes menacés par les activités humaines\, peuvent être source de solutions nouvelles pour une chimie respectueuse de la nature. En effet\, les capacités remarquables d’adaptation de certaines espèces végétales au stress auquel on les soumet génèrent des biomasses aux structures minérales uniques et inhabituelles. Il est possible de transformer les minéraux des espèces végétales en catalyseurs métalliques biosourcés pour la chimie inorganique et organique. Cette approche originale constitue le premier exemple de catalyse chimique métallique d’origine végétale : l’écocatalyse. L’écocatalyse a créé un changement de paradigme : les biomasses gorgées de métaux de transition pour restaurer les sols\, dépolluer les systèmes aquatiques et protéger les zones humides ne sont pas des déchets\, mais des systèmes naturels de restauration des écosystèmes qui possèdent une haute valeur ajoutée pour préparer des molécules utiles à notre santé\, notre bien-être et pour la chimie fine. Il devient ainsi possible de soutenir les solutions écologiques\, en transformant les biomasses végétales générées en des matières premières incontournables de la chimie durable\, les écocatalyseurs. L’utilisation de ces écocatalyseurs en chimie organique est réalisée avec un engagement environnemental inégalé\, qui dépasse les principes de la chimie verte.
URL:https://avenircommundurable.fr/evenement/cours-biomasse-et-bioenergies-aujourdhui-et-demain/
CATEGORIES:cours
ATTACH;FMTTYPE=image/jpeg:https://avenircommundurable.fr/wp-content/uploads/2023/11/51837044821_5f341c650d_k.jpg
END:VEVENT
BEGIN:VEVENT
DTSTART;TZID=Europe/Paris:20240124T100000
DTEND;TZID=Europe/Paris:20240124T120000
DTSTAMP:20260423T163123
CREATED:20231206T141937Z
LAST-MODIFIED:20240111T095303Z
UID:10000060-1706090400-1706097600@avenircommundurable.fr
SUMMARY:Cours : « Quelles ressources pour la biomasse ?»
DESCRIPTION:Au Collège de France\, Le 19 mai 2026\, à 10h00\, dans l’amphithéâtre Maurice Halbwachs\, Face à un diagnostic écologique alarmiste\, il est urgent de faire évoluer nos modes de fonctionnement et de production vers une croissance mutuelle et harmonieuse de l’économie et des écosystèmes naturels. Nous montrerons comment des solutions inspirées\, voire fondées sur la nature\, pour conserver et restaurer des écosystèmes menacés par les activités humaines\, peuvent être source de solutions nouvelles pour une chimie respectueuse de la nature. En effet\, les capacités remarquables d’adaptation de certaines espèces végétales au stress auquel on les soumet génèrent des biomasses aux structures minérales uniques et inhabituelles. Il est possible de transformer les minéraux des espèces végétales en catalyseurs métalliques biosourcés pour la chimie inorganique et organique. Cette approche originale constitue le premier exemple de catalyse chimique métallique d’origine végétale : l’écocatalyse. L’écocatalyse a créé un changement de paradigme : les biomasses gorgées de métaux de transition pour restaurer les sols\, dépolluer les systèmes aquatiques et protéger les zones humides ne sont pas des déchets\, mais des systèmes naturels de restauration des écosystèmes qui possèdent une haute valeur ajoutée pour préparer des molécules utiles à notre santé\, notre bien-être et pour la chimie fine. Il devient ainsi possible de soutenir les solutions écologiques\, en transformant les biomasses végétales générées en des matières premières incontournables de la chimie durable\, les écocatalyseurs. L’utilisation de ces écocatalyseurs en chimie organique est réalisée avec un engagement environnemental inégalé\, qui dépasse les principes de la chimie verte.
URL:https://avenircommundurable.fr/evenement/cours-quelles-ressources-pour-la-biomasse/
CATEGORIES:cours
ATTACH;FMTTYPE=image/jpeg:https://avenircommundurable.fr/wp-content/uploads/2023/12/16132263456_18d19ec420_k.jpg
END:VEVENT
BEGIN:VEVENT
DTSTART;TZID=Europe/Paris:20240131T100000
DTEND;TZID=Europe/Paris:20240131T120000
DTSTAMP:20260423T163123
CREATED:20231206T142522Z
LAST-MODIFIED:20240111T095249Z
UID:10000061-1706695200-1706702400@avenircommundurable.fr
SUMMARY:Cours : « La mobilité électrique : questions et perspectives »
DESCRIPTION:Au Collège de France\, Le 19 mai 2026\, à 10h00\, dans l’amphithéâtre Maurice Halbwachs\, Face à un diagnostic écologique alarmiste\, il est urgent de faire évoluer nos modes de fonctionnement et de production vers une croissance mutuelle et harmonieuse de l’économie et des écosystèmes naturels. Nous montrerons comment des solutions inspirées\, voire fondées sur la nature\, pour conserver et restaurer des écosystèmes menacés par les activités humaines\, peuvent être source de solutions nouvelles pour une chimie respectueuse de la nature. En effet\, les capacités remarquables d’adaptation de certaines espèces végétales au stress auquel on les soumet génèrent des biomasses aux structures minérales uniques et inhabituelles. Il est possible de transformer les minéraux des espèces végétales en catalyseurs métalliques biosourcés pour la chimie inorganique et organique. Cette approche originale constitue le premier exemple de catalyse chimique métallique d’origine végétale : l’écocatalyse. L’écocatalyse a créé un changement de paradigme : les biomasses gorgées de métaux de transition pour restaurer les sols\, dépolluer les systèmes aquatiques et protéger les zones humides ne sont pas des déchets\, mais des systèmes naturels de restauration des écosystèmes qui possèdent une haute valeur ajoutée pour préparer des molécules utiles à notre santé\, notre bien-être et pour la chimie fine. Il devient ainsi possible de soutenir les solutions écologiques\, en transformant les biomasses végétales générées en des matières premières incontournables de la chimie durable\, les écocatalyseurs. L’utilisation de ces écocatalyseurs en chimie organique est réalisée avec un engagement environnemental inégalé\, qui dépasse les principes de la chimie verte.
URL:https://avenircommundurable.fr/evenement/cours-la-mobilite-electrique-questions-et-perspectives/
CATEGORIES:cours
ATTACH;FMTTYPE=image/jpeg:https://avenircommundurable.fr/wp-content/uploads/2023/12/12844926234_aad80a0778_k.jpg
END:VEVENT
END:VCALENDAR