BEGIN:VCALENDAR
VERSION:2.0
PRODID:-//Avenir Commun Durable - ECPv6.6.4.2//NONSGML v1.0//EN
CALSCALE:GREGORIAN
METHOD:PUBLISH
X-ORIGINAL-URL:https://avenircommundurable.fr
X-WR-CALDESC:évènements pour Avenir Commun Durable
REFRESH-INTERVAL;VALUE=DURATION:PT1H
X-Robots-Tag:noindex
X-PUBLISHED-TTL:PT1H
BEGIN:VTIMEZONE
TZID:Europe/Paris
BEGIN:DAYLIGHT
TZOFFSETFROM:+0100
TZOFFSETTO:+0200
TZNAME:CEST
DTSTART:20260329T010000
END:DAYLIGHT
BEGIN:STANDARD
TZOFFSETFROM:+0200
TZOFFSETTO:+0100
TZNAME:CET
DTSTART:20261025T010000
END:STANDARD
END:VTIMEZONE
BEGIN:VEVENT
DTSTART;TZID=Europe/Paris:20260505T100000
DTEND;TZID=Europe/Paris:20260505T120000
DTSTAMP:20260421T232847
CREATED:20260325T154708Z
LAST-MODIFIED:20260414T134358Z
UID:10000102-1777975200-1777982400@avenircommundurable.fr
SUMMARY:Cours : « La restauration écologique des sols pollués et dégradés : des capacités d’adaptation de plantes très inspirantes »
DESCRIPTION:Au Collège de France\, Le 19 mai 2026\, à 10h00\, dans l’amphithéâtre Maurice Halbwachs\, Face à un diagnostic écologique alarmiste\, il est urgent de faire évoluer nos modes de fonctionnement et de production vers une croissance mutuelle et harmonieuse de l’économie et des écosystèmes naturels. Nous montrerons comment des solutions inspirées\, voire fondées sur la nature\, pour conserver et restaurer des écosystèmes menacés par les activités humaines\, peuvent être source de solutions nouvelles pour une chimie respectueuse de la nature. En effet\, les capacités remarquables d’adaptation de certaines espèces végétales au stress auquel on les soumet génèrent des biomasses aux structures minérales uniques et inhabituelles. Il est possible de transformer les minéraux des espèces végétales en catalyseurs métalliques biosourcés pour la chimie inorganique et organique. Cette approche originale constitue le premier exemple de catalyse chimique métallique d’origine végétale : l’écocatalyse. L’écocatalyse a créé un changement de paradigme : les biomasses gorgées de métaux de transition pour restaurer les sols\, dépolluer les systèmes aquatiques et protéger les zones humides ne sont pas des déchets\, mais des systèmes naturels de restauration des écosystèmes qui possèdent une haute valeur ajoutée pour préparer des molécules utiles à notre santé\, notre bien-être et pour la chimie fine. Il devient ainsi possible de soutenir les solutions écologiques\, en transformant les biomasses végétales générées en des matières premières incontournables de la chimie durable\, les écocatalyseurs. L’utilisation de ces écocatalyseurs en chimie organique est réalisée avec un engagement environnemental inégalé\, qui dépasse les principes de la chimie verte.
URL:https://avenircommundurable.fr/evenement/cours-la-restauration-ecologique-des-sols-pollues-et-degrades-des-capacites-dadaptation-de-plantes-tres-inspirantes/
CATEGORIES:cours
ATTACH;FMTTYPE=image/jpeg:https://avenircommundurable.fr/wp-content/uploads/2026/03/CUTSoil-structure-of-hayground-that-was-rested-during-one-year.jpg
END:VEVENT
BEGIN:VEVENT
DTSTART;TZID=Europe/Paris:20260512T100000
DTEND;TZID=Europe/Paris:20260512T120000
DTSTAMP:20260421T232847
CREATED:20260325T154842Z
LAST-MODIFIED:20260414T134311Z
UID:10000103-1778580000-1778587200@avenircommundurable.fr
SUMMARY:Cours : « Zones humides et espèces exotiques envahissantes : vers des solutions naturelles économiquement viables ? »
DESCRIPTION:Au Collège de France\, Le 19 mai 2026\, à 10h00\, dans l’amphithéâtre Maurice Halbwachs\, Face à un diagnostic écologique alarmiste\, il est urgent de faire évoluer nos modes de fonctionnement et de production vers une croissance mutuelle et harmonieuse de l’économie et des écosystèmes naturels. Nous montrerons comment des solutions inspirées\, voire fondées sur la nature\, pour conserver et restaurer des écosystèmes menacés par les activités humaines\, peuvent être source de solutions nouvelles pour une chimie respectueuse de la nature. En effet\, les capacités remarquables d’adaptation de certaines espèces végétales au stress auquel on les soumet génèrent des biomasses aux structures minérales uniques et inhabituelles. Il est possible de transformer les minéraux des espèces végétales en catalyseurs métalliques biosourcés pour la chimie inorganique et organique. Cette approche originale constitue le premier exemple de catalyse chimique métallique d’origine végétale : l’écocatalyse. L’écocatalyse a créé un changement de paradigme : les biomasses gorgées de métaux de transition pour restaurer les sols\, dépolluer les systèmes aquatiques et protéger les zones humides ne sont pas des déchets\, mais des systèmes naturels de restauration des écosystèmes qui possèdent une haute valeur ajoutée pour préparer des molécules utiles à notre santé\, notre bien-être et pour la chimie fine. Il devient ainsi possible de soutenir les solutions écologiques\, en transformant les biomasses végétales générées en des matières premières incontournables de la chimie durable\, les écocatalyseurs. L’utilisation de ces écocatalyseurs en chimie organique est réalisée avec un engagement environnemental inégalé\, qui dépasse les principes de la chimie verte.
URL:https://avenircommundurable.fr/evenement/cours-zones-humides-et-especes-exotiques-envahissantes-vers-des-solutions-naturelles-economiquement-viables/
CATEGORIES:cours
ATTACH;FMTTYPE=image/jpeg:https://avenircommundurable.fr/wp-content/uploads/2026/03/CUTSunrise-at-Viru-Bog-Estonia-scaled.jpg
END:VEVENT
BEGIN:VEVENT
DTSTART;TZID=Europe/Paris:20260519T100000
DTEND;TZID=Europe/Paris:20260519T110000
DTSTAMP:20260421T232847
CREATED:20260325T155018Z
LAST-MODIFIED:20260414T134323Z
UID:10000104-1779184800-1779188400@avenircommundurable.fr
SUMMARY:Cours : « L’écocatalyse\, une révolution verte et durable en chimie »
DESCRIPTION:Au Collège de France\, Le 19 mai 2026\, à 10h00\, dans l’amphithéâtre Maurice Halbwachs\, Face à un diagnostic écologique alarmiste\, il est urgent de faire évoluer nos modes de fonctionnement et de production vers une croissance mutuelle et harmonieuse de l’économie et des écosystèmes naturels. Nous montrerons comment des solutions inspirées\, voire fondées sur la nature\, pour conserver et restaurer des écosystèmes menacés par les activités humaines\, peuvent être source de solutions nouvelles pour une chimie respectueuse de la nature. En effet\, les capacités remarquables d’adaptation de certaines espèces végétales au stress auquel on les soumet génèrent des biomasses aux structures minérales uniques et inhabituelles. Il est possible de transformer les minéraux des espèces végétales en catalyseurs métalliques biosourcés pour la chimie inorganique et organique. Cette approche originale constitue le premier exemple de catalyse chimique métallique d’origine végétale : l’écocatalyse. L’écocatalyse a créé un changement de paradigme : les biomasses gorgées de métaux de transition pour restaurer les sols\, dépolluer les systèmes aquatiques et protéger les zones humides ne sont pas des déchets\, mais des systèmes naturels de restauration des écosystèmes qui possèdent une haute valeur ajoutée pour préparer des molécules utiles à notre santé\, notre bien-être et pour la chimie fine. Il devient ainsi possible de soutenir les solutions écologiques\, en transformant les biomasses végétales générées en des matières premières incontournables de la chimie durable\, les écocatalyseurs. L’utilisation de ces écocatalyseurs en chimie organique est réalisée avec un engagement environnemental inégalé\, qui dépasse les principes de la chimie verte.
URL:https://avenircommundurable.fr/evenement/cours-lecocatalyse-une-revolution-verte-et-durable-en-chimie/
CATEGORIES:cours
ATTACH;FMTTYPE=image/jpeg:https://avenircommundurable.fr/wp-content/uploads/2026/03/CUTORNLs-Udaya-Kalluri-checks-hybrid-poplars-in-an-ORNL-greenhouse.jpg
END:VEVENT
END:VCALENDAR