BEGIN:VCALENDAR
VERSION:2.0
PRODID:-//Avenir Commun Durable - ECPv6.6.4.2//NONSGML v1.0//EN
CALSCALE:GREGORIAN
METHOD:PUBLISH
X-ORIGINAL-URL:https://avenircommundurable.fr
X-WR-CALDESC:évènements pour Avenir Commun Durable
REFRESH-INTERVAL;VALUE=DURATION:PT1H
X-Robots-Tag:noindex
X-PUBLISHED-TTL:PT1H
BEGIN:VTIMEZONE
TZID:Europe/Paris
BEGIN:DAYLIGHT
TZOFFSETFROM:+0100
TZOFFSETTO:+0200
TZNAME:CEST
DTSTART:20260329T010000
END:DAYLIGHT
BEGIN:STANDARD
TZOFFSETFROM:+0200
TZOFFSETTO:+0100
TZNAME:CET
DTSTART:20261025T010000
END:STANDARD
END:VTIMEZONE
BEGIN:VEVENT
DTSTART;TZID=Europe/Paris:20260331T100000
DTEND;TZID=Europe/Paris:20260331T120000
DTSTAMP:20260421T233923
CREATED:20260128T140931Z
LAST-MODIFIED:20260128T140957Z
UID:10000098-1774951200-1774958400@avenircommundurable.fr
SUMMARY:Cours : « Pénurie des métaux stratégiques et chimie pharmaceutique : des problèmes aux solutions »
DESCRIPTION:Au Collège de France\, Le 19 mai 2026\, à 10h00\, dans l’amphithéâtre Maurice Halbwachs\, Face à un diagnostic écologique alarmiste\, il est urgent de faire évoluer nos modes de fonctionnement et de production vers une croissance mutuelle et harmonieuse de l’économie et des écosystèmes naturels. Nous montrerons comment des solutions inspirées\, voire fondées sur la nature\, pour conserver et restaurer des écosystèmes menacés par les activités humaines\, peuvent être source de solutions nouvelles pour une chimie respectueuse de la nature. En effet\, les capacités remarquables d’adaptation de certaines espèces végétales au stress auquel on les soumet génèrent des biomasses aux structures minérales uniques et inhabituelles. Il est possible de transformer les minéraux des espèces végétales en catalyseurs métalliques biosourcés pour la chimie inorganique et organique. Cette approche originale constitue le premier exemple de catalyse chimique métallique d’origine végétale : l’écocatalyse. L’écocatalyse a créé un changement de paradigme : les biomasses gorgées de métaux de transition pour restaurer les sols\, dépolluer les systèmes aquatiques et protéger les zones humides ne sont pas des déchets\, mais des systèmes naturels de restauration des écosystèmes qui possèdent une haute valeur ajoutée pour préparer des molécules utiles à notre santé\, notre bien-être et pour la chimie fine. Il devient ainsi possible de soutenir les solutions écologiques\, en transformant les biomasses végétales générées en des matières premières incontournables de la chimie durable\, les écocatalyseurs. L’utilisation de ces écocatalyseurs en chimie organique est réalisée avec un engagement environnemental inégalé\, qui dépasse les principes de la chimie verte.
URL:https://avenircommundurable.fr/evenement/cours-penurie-des-metaux-strategiques-et-chimie-pharmaceutique-des-problemes-aux-solutions/
CATEGORIES:cours
ATTACH;FMTTYPE=image/jpeg:https://avenircommundurable.fr/wp-content/uploads/2026/01/CUT-Coal-mining-in-Spain.jpg
END:VEVENT
END:VCALENDAR